BEGIN:VCALENDAR
VERSION:2.0
PRODID:-//Circus Celebrations! - ECPv6.15.20//NONSGML v1.0//EN
CALSCALE:GREGORIAN
METHOD:PUBLISH
X-WR-CALNAME:Circus Celebrations!
X-ORIGINAL-URL:https://circuscelebrations.com
X-WR-CALDESC:Events for Circus Celebrations!
REFRESH-INTERVAL;VALUE=DURATION:PT1H
X-Robots-Tag:noindex
X-PUBLISHED-TTL:PT1H
BEGIN:VTIMEZONE
TZID:America/Los_Angeles
BEGIN:DAYLIGHT
TZOFFSETFROM:-0800
TZOFFSETTO:-0700
TZNAME:PDT
DTSTART:20210314T100000
END:DAYLIGHT
BEGIN:STANDARD
TZOFFSETFROM:-0700
TZOFFSETTO:-0800
TZNAME:PST
DTSTART:20211107T090000
END:STANDARD
BEGIN:DAYLIGHT
TZOFFSETFROM:-0800
TZOFFSETTO:-0700
TZNAME:PDT
DTSTART:20220313T100000
END:DAYLIGHT
BEGIN:STANDARD
TZOFFSETFROM:-0700
TZOFFSETTO:-0800
TZNAME:PST
DTSTART:20221106T090000
END:STANDARD
BEGIN:DAYLIGHT
TZOFFSETFROM:-0800
TZOFFSETTO:-0700
TZNAME:PDT
DTSTART:20230312T100000
END:DAYLIGHT
BEGIN:STANDARD
TZOFFSETFROM:-0700
TZOFFSETTO:-0800
TZNAME:PST
DTSTART:20231105T090000
END:STANDARD
BEGIN:DAYLIGHT
TZOFFSETFROM:-0800
TZOFFSETTO:-0700
TZNAME:PDT
DTSTART:20240310T100000
END:DAYLIGHT
BEGIN:STANDARD
TZOFFSETFROM:-0700
TZOFFSETTO:-0800
TZNAME:PST
DTSTART:20241103T090000
END:STANDARD
END:VTIMEZONE
BEGIN:VTIMEZONE
TZID:UTC
BEGIN:STANDARD
TZOFFSETFROM:+0000
TZOFFSETTO:+0000
TZNAME:UTC
DTSTART:20210101T000000
END:STANDARD
END:VTIMEZONE
BEGIN:VEVENT
DTSTART;TZID=America/Los_Angeles:20230402T180000
DTEND;TZID=America/Los_Angeles:20230402T210000
DTSTAMP:20260421T115712
CREATED:20230315T074822Z
LAST-MODIFIED:20230315T074822Z
UID:169-1680458400-1680469200@circuscelebrations.com
SUMMARY:Kono at Soul Bites
DESCRIPTION:
URL:https://circuscelebrations.com/event/kono-at-soul-bites/
LOCATION:Soul Bites\, 423 State Street\, Santa Barbara\, CA\, 93103\, United States
CATEGORIES:Live Music
ATTACH;FMTTYPE=image/png:https://circuscelebrations.com/wp-content/uploads/sites/4/2022/05/cropped-ORIGINAL-CIRCUS-Celebrations-blue-favicon3.png
END:VEVENT
BEGIN:VEVENT
DTSTART;TZID=America/Los_Angeles:20220608T210000
DTEND;TZID=America/Los_Angeles:20220608T223000
DTSTAMP:20260421T115712
CREATED:20220528T102055Z
LAST-MODIFIED:20220528T102055Z
UID:114-1654722000-1654727400@circuscelebrations.com
SUMMARY:Modern Genre - Sandbar Cocina y Tequila
DESCRIPTION:
URL:https://circuscelebrations.com/event/modern-genre-sandbar-cocina-y-tequila/
LOCATION:Sandbar Cocina y Tequila\, 514 State St.\, Santa Barbara\, 93101\, United States
CATEGORIES:Live Music
END:VEVENT
BEGIN:VEVENT
DTSTART;TZID=America/Los_Angeles:20220604T193000
DTEND;TZID=America/Los_Angeles:20220604T220000
DTSTAMP:20260421T115712
CREATED:20220528T101832Z
LAST-MODIFIED:20220528T101842Z
UID:110-1654371000-1654380000@circuscelebrations.com
SUMMARY:Modern Genre - SOhO Restaurant and Music Club
DESCRIPTION:21+
URL:https://circuscelebrations.com/event/modern-genre-soho-restaurant-and-music-club/
LOCATION:SOhO Restaurant and Music Club\, 1221 State St.\, STE 205\, Santa Barbara\, CA\, 93101\, United States
CATEGORIES:21+,Live Music
END:VEVENT
BEGIN:VEVENT
DTSTART;TZID=UTC:20220528T200000
DTEND;TZID=UTC:20220528T220000
DTSTAMP:20260421T115712
CREATED:20220528T170820Z
LAST-MODIFIED:20220528T102117Z
UID:105-1653768000-1653775200@circuscelebrations.com
SUMMARY:Modern Genre - The Blue Owl
DESCRIPTION:
URL:https://circuscelebrations.com/event/modern-genre-the-blue-owl/
LOCATION:The Blue Owl\, 5 W Canon Perdido St.\, Santa Barbara\, CA\, 93101\, United States
CATEGORIES:Live Music
END:VEVENT
END:VCALENDAR